BEGIN:VCALENDAR
VERSION:2.0
PRODID:-//https://ischia.discovercampania.it///NONSGML kigkonsult.se iCalcreator 2.10.15//
METHOD:PUBLISH
BEGIN:VEVENT
UID:20260419T190537CEST-7490EgPMEM@https://ischia.discovercampania.it/
DTSTAMP:20260419T170537Z
DESCRIPTION:Screening oncologico col camper della Regione Campania piazzale
  Anna De Felice https://ischia.discovercampania.it/eventi/evento/38442-nat
 ale-a-casamicciola-natale-in-salute
DTSTART:20241220T090000Z
DTEND:20241220T120000Z
LOCATION:Piazzale Anna De Felice  (80074 Casamicciola Terme NA\, Italia)
SUMMARY:Natale a Casamicciola: NATALE IN SALUTE
URL:https://ischia.discovercampania.it/eventi/evento/38442-natale-a-casamic
 ciola-natale-in-salute
END:VEVENT
END:VCALENDAR
