BEGIN:VCALENDAR
VERSION:2.0
PRODID:-//https://ischia.discovercampania.it///NONSGML kigkonsult.se iCalcreator 2.10.15//
METHOD:PUBLISH
BEGIN:VEVENT
UID:20260424T113343CEST-78356VGCmb@https://ischia.discovercampania.it/
DTSTAMP:20260424T093343Z
DESCRIPTION:CASAMICCIOLA IN BRUNCH Live music ed animazione per i bambini p
 iazza Marina e corso L. Manzi dalle 11:00 https://ischia.discovercampania.
 it/eventi/evento/38444-natale-a-casamicciola-casamicciola-in-brunch
DTSTART:20241222T100000Z
DTEND:20241222T140000Z
LOCATION:Chiesa del Buon Consiglio (Corso Luigi Manzi\, 5\, 80074 Casamicci
 ola Terme NA\, Italia)
SUMMARY:Natale a Casamicciola: CASAMICCIOLA IN BRUNCH
URL:https://ischia.discovercampania.it/eventi/evento/38444-natale-a-casamic
 ciola-casamicciola-in-brunch
END:VEVENT
END:VCALENDAR
