BEGIN:VCALENDAR
VERSION:2.0
PRODID:-//https://ischia.discovercampania.it///NONSGML kigkonsult.se iCalcreator 2.10.15//
METHOD:PUBLISH
BEGIN:VEVENT
UID:20260422T234808CEST-9152Bs6tOu@https://ischia.discovercampania.it/
DTSTAMP:20260422T214808Z
DESCRIPTION:Gourmet in movimento\, festeggiamenti in onore di San Ciro http
 s://ischia.discovercampania.it/eventi/evento/41546-a-marenna-e-san-ciro
DTSTART:20250126T183000Z
DTEND:20250126T203000Z
LOCATION:Piazza del Ciglio  (Via Ciglio\, Città Metropolitana di Napoli\, I
 talia)
SUMMARY:A' Marenna 'e San Ciro
URL:https://ischia.discovercampania.it/eventi/evento/41546-a-marenna-e-san-
 ciro
END:VEVENT
END:VCALENDAR
