BEGIN:VCALENDAR
VERSION:2.0
PRODID:-//https://ischia.discovercampania.it///NONSGML kigkonsult.se iCalcreator 2.10.15//
METHOD:PUBLISH
BEGIN:VEVENT
UID:20260423T174845CEST-0892WJPg1F@https://ischia.discovercampania.it/
DTSTAMP:20260423T154845Z
DESCRIPTION:Martedì 4 marzo dalle ore 15.30 in piazza Santa Restituta a LAC
 CO AMENO!!Tante attrazioni\, spettacolo di giocolieria con artisti di stra
 da\, trampolieri\, clown\, mangiafuoco\, musica\, balli e tanto divertimen
 to!! L’ evento sarà gratuito in collaborazione con il Comune di Lacco Amen
 o https://ischia.discovercampania.it/eventi/evento/44702-carnevale-insieme
 -a-lacco
DTSTART:20250304T143000Z
DTEND:20250304T170000Z
LOCATION:Piazza S. Restituta (Piazza Santa Restituta\, 80076 Lacco Ameno NA
 \, Italia)
SUMMARY:Carnevale insieme a Lacco
URL:https://ischia.discovercampania.it/eventi/evento/44702-carnevale-insiem
 e-a-lacco
END:VEVENT
END:VCALENDAR
