BEGIN:VCALENDAR
VERSION:2.0
PRODID:-//https://ischia.discovercampania.it///NONSGML kigkonsult.se iCalcreator 2.10.15//
METHOD:PUBLISH
BEGIN:VEVENT
UID:20260424T221731CEST-5440nJGv5d@https://ischia.discovercampania.it/
DTSTAMP:20260424T201731Z
DESCRIPTION:Spettacoli ore 17:00 e 18:40&nbsp\; Cartoon live! https://ischi
 a.discovercampania.it/eventi/evento/45431-lo-spettacolo-delle-mascotte-dal
 -vivo
DTSTART:20250329T160000Z
DTEND:20250329T180000Z
LOCATION:Centro Parrocchiale San Pietro ( Via Colonna Vittoria\, 196\, 8007
 7 Ischia NA)
SUMMARY:Lo spettacolo delle mascotte dal vivo 
URL:https://ischia.discovercampania.it/eventi/evento/45431-lo-spettacolo-de
 lle-mascotte-dal-vivo
END:VEVENT
END:VCALENDAR
